BEGIN:VCALENDAR
VERSION:2.0
PRODID:-//CPHD Formations - ECPv6.15.20//NONSGML v1.0//EN
CALSCALE:GREGORIAN
METHOD:PUBLISH
X-ORIGINAL-URL:https://www.cphd-formations.com
X-WR-CALDESC:Évènements pour CPHD Formations
REFRESH-INTERVAL;VALUE=DURATION:PT1H
X-Robots-Tag:noindex
X-PUBLISHED-TTL:PT1H
BEGIN:VTIMEZONE
TZID:Europe/Paris
BEGIN:DAYLIGHT
TZOFFSETFROM:+0100
TZOFFSETTO:+0200
TZNAME:CEST
DTSTART:20240331T010000
END:DAYLIGHT
BEGIN:STANDARD
TZOFFSETFROM:+0200
TZOFFSETTO:+0100
TZNAME:CET
DTSTART:20241027T010000
END:STANDARD
BEGIN:DAYLIGHT
TZOFFSETFROM:+0100
TZOFFSETTO:+0200
TZNAME:CEST
DTSTART:20250330T010000
END:DAYLIGHT
BEGIN:STANDARD
TZOFFSETFROM:+0200
TZOFFSETTO:+0100
TZNAME:CET
DTSTART:20251026T010000
END:STANDARD
BEGIN:DAYLIGHT
TZOFFSETFROM:+0100
TZOFFSETTO:+0200
TZNAME:CEST
DTSTART:20260329T010000
END:DAYLIGHT
BEGIN:STANDARD
TZOFFSETFROM:+0200
TZOFFSETTO:+0100
TZNAME:CET
DTSTART:20261025T010000
END:STANDARD
END:VTIMEZONE
BEGIN:VEVENT
DTSTART;TZID=Europe/Paris:20250917T140000
DTEND;TZID=Europe/Paris:20250917T170000
DTSTAMP:20260419T212718
CREATED:20250804T145601Z
LAST-MODIFIED:20250804T150532Z
UID:10000028-1758117600-1758128400@www.cphd-formations.com
SUMMARY:Réunion d'Information Collective POE Soissons
DESCRIPTION:« Tous les Évènements \nRéunion d’Information Collective POE Soissons\n4 août\n–\n14h00\nà\n17 septembre\n–\n17h00\n\n\nAjouter au calendrier \n \n\nGoogle Agenda\niCalendar\nOutlook 365\nOutlook Live\n\n📢 Participez à notre prochaine Réunion d’Information Collective POE à Soissons \n📅Mercredi 17 septembre 2025 \n🕘 De 14h à 17h \n📍A France travail Soissons : 24 Rue de l’Émaillerie\, 02200 Soissons \nVenez découvrir la formation Assistant(e) de Vie aux Familles\, les débouchés professionnels\, le contenu du parcours et poser toutes vos questions à notre équipe ! \n👉 Une étape essentielle pour rejoindre notre prochaine session de POE. 📩 Inscriptions : recrutement@cphd-formations.com \n📞 03 23 89 29 29 \n \n\nFrance Travail Soissons \n24 Rue de l’Émaillerie \nSoissons\,\n02200\nFrance \n+ Google Map \n\n09 72 72 39 49  \nVoir Lieu site web \n\n \nFormulaire d’inscription\n\n\n\nNom\n\n\n\nPrénom\n\n\n\nEmail\n\n\n\nDate de l’événement\n\n\n\nNom de l’événement\n\n\n\nMessage \n\n\nEnvoyer votre demande d’inscription\n\n\n\n\nRéunion d’Information Collective POE Château-Thierry \n\nRéunion d’Information Collective POE Laon
URL:https://www.cphd-formations.com/evenement/reunion-dinformation-collective-poe-soissons-3/
LOCATION:France Travail – Soissons\, 24 rue de l'Émaillerie\, Soissons\, 02200\, France
CATEGORIES:Réunion d'information collective
ATTACH;FMTTYPE=image/jpeg:https://www.cphd-formations.com/wp-content/uploads/2025/08/COM-QC1.1-AFFICHE-RIC-CFA-1_Plan-de-travail-1-copie-4-scaled.jpg
ORGANIZER;CN="CPHD Formations":MAILTO:contact@cphd-formations.com
END:VEVENT
BEGIN:VEVENT
DTSTART;TZID=Europe/Paris:20250902T140000
DTEND;TZID=Europe/Paris:20250902T170000
DTSTAMP:20260419T212718
CREATED:20250804T143728Z
LAST-MODIFIED:20250804T150707Z
UID:10000024-1756821600-1756832400@www.cphd-formations.com
SUMMARY:Réunion d'Information Collective POE Soissons
DESCRIPTION:« Tous les Évènements \nRéunion d’Information Collective POE Soissons\n4 août\n–\n8h00\nà\n17h00\n\n\nAjouter au calendrier \n  \n\nGoogle Agenda\niCalendar\nOutlook 365\nOutlook Live\n\n📢 Participez à notre prochaine Réunion d’Information Collective POE à Soissons ! \n📅 Mardi 02 septembre 2025 \n🕘 De 14h à 17h \n📍A France travail Soissons : 24 Rue de l’Émaillerie\, 02200 Soissons \nVenez découvrir la formation Assistant(e) de Vie aux Familles\, les débouchés professionnels\, le contenu du parcours et poser toutes vos questions à notre équipe ! \n👉 Une étape essentielle pour rejoindre notre prochaine session de POE. 📩 Inscriptions : recrutement@cphd-formations.com \n📞 03 23 89 29 29 \n \n\nFrance Travail Soissons \n24 Rue de l’ÉmaillerieSoissons\,\n02200\nFrance\n+ Google Map \n\n09 72 72 39 49  \nVoir Lieu site web \n\n \nFormulaire d’inscription\n\n\n\nNom\n\n\n\nPrénom\n\n\n\nEmail\n\n\n\nDate de l’événement\n\n\n\nNom de l’événement\n\n\n\nMessage \n\n\nEnvoyer votre demande d’inscription\n\n\n\n\nRéunion d’Information Collective POEI LAON/ANIZY \n\nRéunion d’Information Collective POE Laon
URL:https://www.cphd-formations.com/evenement/reunion-dinformation-collective-poe-soissons-2/
LOCATION:France Travail – Soissons\, 24 rue de l'Émaillerie\, Soissons\, 02200\, France
CATEGORIES:Réunion d'information collective
ATTACH;FMTTYPE=image/jpeg:https://www.cphd-formations.com/wp-content/uploads/2025/08/COM-QC1.1-AFFICHE-RIC-CFA-7_Plan-de-travail-1-copie-4-1-scaled.jpg
ORGANIZER;CN="CPHD Formations":MAILTO:contact@cphd-formations.com
END:VEVENT
BEGIN:VEVENT
DTSTART;TZID=Europe/Paris:20250808T093000
DTEND;TZID=Europe/Paris:20250808T130000
DTSTAMP:20260419T212718
CREATED:20250804T134932Z
LAST-MODIFIED:20250804T140112Z
UID:10000019-1754645400-1754658000@www.cphd-formations.com
SUMMARY:Réunion d'Information Collective POE Soissons
DESCRIPTION:« Tous les Évènements \nRéunion d’Information Collective POE Soissons\n8 août\n–\n9h30\nà\n13h00\n\n\nAjouter au calendrier \n \n\nGoogle Agenda\niCalendar\nOutlook 365\nOutlook Live\n\n Participez à notre prochaine Réunion d’Information Collective POE à Soissons ! \n Vendredi 8 août 2025 \n De 9h30 à 13h \nA France travail Soissons : 24 Rue de l’Émaillerie\, 02200 Soissons \nVenez découvrir la formation Assistant(e) de Vie aux Familles\, les débouchés professionnels\, le contenu du parcours et poser toutes vos questions à notre équipe ! \n Une étape essentielle pour rejoindre notre prochaine session de POE.  Inscriptions : recrutement@cphd-formations.com \n 03 23 89 29 29 \n\nFrance Travail Soissons \n24 Rue de l’Émaillerie \nSoissons\,\n02200\nFrance \n+ Google Map \n\n09 72 72 39 49  \nVoir Lieu site web \n\n \nFormulaire d’inscription\n\n\n\nNom\n\n\n\nPrénom\n\n\n\nEmail\n\n\n\nDate de l’événement\n\n\n\nNom de l’événement\n\n\n\nMessage \n\n\nEnvoyer votre demande d’inscription\n\n\n\n\nRéunion d’Information Collective POE Laon \n\nRéunion d’Information Collective POEI LAON/ANIZY
URL:https://www.cphd-formations.com/evenement/reunion-dinformation-collective-poe-soissons/
LOCATION:France Travail – Soissons\, 24 rue de l'Émaillerie\, Soissons\, 02200\, France
CATEGORIES:Réunion d'information collective
ATTACH;FMTTYPE=image/jpeg:https://www.cphd-formations.com/wp-content/uploads/2025/08/COM-QC1.1-AFFICHE-RIC-CFA-2_Plan-de-travail-1-copie-4_Plan-de-travail-1-copie-4-scaled.jpg
ORGANIZER;CN="CPHD Formations":MAILTO:contact@cphd-formations.com
END:VEVENT
END:VCALENDAR