BEGIN:VCALENDAR
VERSION:2.0
PRODID:-//CPHD Formations - ECPv6.15.20//NONSGML v1.0//EN
CALSCALE:GREGORIAN
METHOD:PUBLISH
X-WR-CALNAME:CPHD Formations
X-ORIGINAL-URL:https://www.cphd-formations.com
X-WR-CALDESC:Évènements pour CPHD Formations
REFRESH-INTERVAL;VALUE=DURATION:PT1H
X-Robots-Tag:noindex
X-PUBLISHED-TTL:PT1H
BEGIN:VTIMEZONE
TZID:Europe/Paris
BEGIN:DAYLIGHT
TZOFFSETFROM:+0100
TZOFFSETTO:+0200
TZNAME:CEST
DTSTART:20240331T010000
END:DAYLIGHT
BEGIN:STANDARD
TZOFFSETFROM:+0200
TZOFFSETTO:+0100
TZNAME:CET
DTSTART:20241027T010000
END:STANDARD
BEGIN:DAYLIGHT
TZOFFSETFROM:+0100
TZOFFSETTO:+0200
TZNAME:CEST
DTSTART:20250330T010000
END:DAYLIGHT
BEGIN:STANDARD
TZOFFSETFROM:+0200
TZOFFSETTO:+0100
TZNAME:CET
DTSTART:20251026T010000
END:STANDARD
BEGIN:DAYLIGHT
TZOFFSETFROM:+0100
TZOFFSETTO:+0200
TZNAME:CEST
DTSTART:20260329T010000
END:DAYLIGHT
BEGIN:STANDARD
TZOFFSETFROM:+0200
TZOFFSETTO:+0100
TZNAME:CET
DTSTART:20261025T010000
END:STANDARD
END:VTIMEZONE
BEGIN:VEVENT
DTSTART;TZID=Europe/Paris:20250819T090000
DTEND;TZID=Europe/Paris:20250819T120000
DTSTAMP:20260419T204258
CREATED:20250804T141009Z
LAST-MODIFIED:20250804T141217Z
UID:10000021-1755594000-1755604800@www.cphd-formations.com
SUMMARY:Réunion d'Information Collective POE Laon
DESCRIPTION:« Tous les Évènements \nRéunion d’Information Collective POE Laon\n19 août\n–\n9h00\nà\n12h00\n\n\nAjouter au calendrier \n \n\nGoogle Agenda\niCalendar\nOutlook 365\nOutlook Live\n\n📢 Participez à notre prochaine Réunion d’Information Collective POE à Laon ! \n📅 Mardi 19 août 2025 \n🕘 De 9h à 12h \n📍A France travail Laon : Avenue du Maréchal-Foch 02000 Laon \nVenez découvrir la formation Assistant(e) de Vie aux Familles\, les débouchés professionnels\, le contenu du parcours et poser toutes vos questions à notre équipe ! \n👉 Une étape essentielle pour rejoindre notre prochaine session de POE. 📩 Inscriptions : recrutement@cphd-formations.com \n📞 03 23 89 29 29 \n \n\nFrance Travail Laon \nAv. du Maréchal Foch \nLaon\,\n02000\nFrance \n+ Google Map \n  \nVoir Lieu site web \n\n \nFormulaire d’inscription\n\n\n\nNom\n\n\n\nPrénom\n\n\n\nEmail\n\n\n\nDate de l’événement\n\n\n\nNom de l’événement\n\n\n\nMessage \n\n\nEnvoyer votre demande d’inscription\n\n\n\n\nRéunion d’Information Collective POE Laon \n\nRéunion d’Information Collective POEI Château-Thierry
URL:https://www.cphd-formations.com/evenement/reunion-dinformation-collective-poe-laon-4/
LOCATION:France Travail Laon\, Av. du Maréchal Foch\, Laon\, 02000\, France
CATEGORIES:Réunion d'information collective
ATTACH;FMTTYPE=image/jpeg:https://www.cphd-formations.com/wp-content/uploads/2025/08/COM-QC1.1-AFFICHE-RIC-CFA-4_Plan-de-travail-1-copie-4-scaled.jpg
END:VEVENT
BEGIN:VEVENT
DTSTART;TZID=Europe/Paris:20250812T090000
DTEND;TZID=Europe/Paris:20250812T120000
DTSTAMP:20260419T204258
CREATED:20250804T140515Z
LAST-MODIFIED:20250804T140659Z
UID:10000020-1754989200-1755000000@www.cphd-formations.com
SUMMARY:Réunion d'Information Collective POE Laon
DESCRIPTION:« Tous les Évènements\n \n\n	Réunion d’Information Collective POE Laon\n			12 août\n	  –\n9h00\n	  à\n12h00\n\n	\n	Ajouter au calendrier	\n		\n	\n \n\n\n	Google Agenda\n\n\n	iCalendar\n\n\n	Outlook 365\n\n\n	Outlook Live\n\n\n  \n📢 Participez à notre prochaine Réunion d’Information Collective POE à Laon ! \n📅 Mardi 12 août 2025 \n🕘 De 9h à 12h \n📍A France travail Laon : Avenue du Maréchal-Foch 02000 Laon  \nVenez découvrir la formation Assistant(e) de Vie aux Familles\, les débouchés professionnels\, le contenu du parcours et poser toutes vos questions à notre équipe ! \n👉 Une étape essentielle pour rejoindre notre prochaine session de POE. 📩 Inscriptions : recrutement@cphd-formations.com \n📞 03 23 89 29 29 \n	 \n\n			\n		France Travail Laon			\n	\n\nAv. du Maréchal Foch\n		\n		Laon\,\n	02000\n	France\n\n\n	+ Google Map \n\n					\n						\n	 \n\n	Voir Lieu site web \n\n \nFormulaire d’inscription\n\n			\n			\n					\n			Nom\n						\n				\n					\n			Prénom\n						\n				\n					\n			Email\n						\n				\n					\n			Date de l’événement\n						\n				\n					\n			Nom de l’événement\n						\n				\n					\n			Message						\n				\n									\n						Envoyer votre demande d'inscription\n		\n				\n\n\n\n\n				Réunion d'Information Collective POE Soissons	\n\n\n	\n		Réunion d’Information Collective POEI LAON/ANIZY
URL:https://www.cphd-formations.com/evenement/reunion-dinformation-collective-poe-laon-3/
LOCATION:France Travail Laon\, Av. du Maréchal Foch\, Laon\, 02000\, France
CATEGORIES:Réunion d'information collective
ATTACH;FMTTYPE=image/jpeg:https://www.cphd-formations.com/wp-content/uploads/2025/08/COM-QC1.1-AFFICHE-RIC-CFA-3_Plan-de-travail-1-copie-4-scaled.jpg
ORGANIZER;CN="CPHD Formations":MAILTO:contact@cphd-formations.com
END:VEVENT
BEGIN:VEVENT
DTSTART;TZID=Europe/Paris:20250805T090000
DTEND;TZID=Europe/Paris:20250805T120000
DTSTAMP:20260419T204258
CREATED:20250804T133851Z
LAST-MODIFIED:20250804T135851Z
UID:10000018-1754384400-1754395200@www.cphd-formations.com
SUMMARY:Réunion d'Information Collective POE Laon
DESCRIPTION:« Tous les Évènements \nRéunion d’Information Collective POE Laon\n5 août\n–\n9h00\nà\n12h00\n\n\nAjouter au calendrier \n \n\nGoogle Agenda\niCalendar\nOutlook 365\nOutlook Live\n\n📢 Participez à notre prochaine Réunion d’Information Collective POE à Laon ! \n📅 Mardi 5 août 2025 \n🕘 De 9h à 12h \n📍A France travail Laon : Avenue du Maréchal-Foch 02000 Laon Venez découvrir la formation Assistant(e) de Vie aux Familles\, les débouchés professionnels\, le contenu du parcours et poser toutes vos questions à notre équipe ! \n👉 Une étape essentielle pour rejoindre notre prochaine session de POE. 📩 Inscriptions : recrutement@cphd-formations.com \n📞 03 23 89 29 29 \n\nFrance Travail Laon \nAv. du Maréchal Foch \nLaon\,\n02000\nFrance \n+ Google Map \n  \nVoir Lieu site web \n\n \nFormulaire d’inscription\n\n\n\nNom\n\n\n\nPrénom\n\n\n\nEmail\n\n\n\nDate de l’événement\n\n\n\nNom de l’événement\n\n\n\nMessage \n\n\nEnvoyer votre demande d’inscription\n\n\n\n\nRéunion d’Information Collective POE Laon \n\nRéunion d’Information Collective POEI LAON/ANIZY
URL:https://www.cphd-formations.com/evenement/reunion-dinformation-collective-poe-laon-2/
LOCATION:France Travail Laon\, Av. du Maréchal Foch\, Laon\, 02000\, France
CATEGORIES:Réunion d'information collective
ATTACH;FMTTYPE=image/jpeg:https://www.cphd-formations.com/wp-content/uploads/2025/08/COM-QC1.1-AFFICHE-RIC-CFA_Plan-de-travail-1-copie-4-scaled.jpg
ORGANIZER;CN="CPHD Formations":MAILTO:contact@cphd-formations.com
END:VEVENT
BEGIN:VEVENT
DTSTART;TZID=Europe/Paris:20250729T090000
DTEND;TZID=Europe/Paris:20250729T120000
DTSTAMP:20260419T204258
CREATED:20250701T125309Z
LAST-MODIFIED:20250701T135602Z
UID:10000009-1753779600-1753790400@www.cphd-formations.com
SUMMARY:Réunion d’Information Collective POEI LAON/ANIZY
DESCRIPTION:« Tous les Évènements \nRéunion d’Information Collective POEI LAON/ANIZY\n29 juillet\n–\n9h00\nà\n12h00\n\n\nAjouter au calendrier \n \n\nGoogle Agenda\niCalendar\nOutlook 365\nOutlook Live\n\n📢 Réunion d’Information Collective POEI – Laon / Anizy \n📅 Mardi 29 juillet 2025🕘 De 9h00 à 12h00📍 France Travail Laon – Parc Foch \nLors de cette réunion\, vous pourrez :✅ Découvrir nos parcours de formation✅ En apprendre plus sur les métiers du médico-social\, de la santé et de la petite enfance✅ Échanger avec notre équipe et poser toutes vos questions \n \n\nFrance Travail Laon \nAv. du Maréchal Foch \nLaon\,\n02000\nFrance \n+ Google Map \n  \nVoir Lieu site web \n\n \nFormulaire d’inscription\n\n\n\nNom\n\n\n\nPrénom\n\n\n\nEmail\n\n\n\nDate de l’événement\n\n\n\nNom de l’événement\n\n\n\nMessage \n\n\nEnvoyer votre demande d’inscription\n\n\n\n\nRéunion d’Information Collective POEI LAON/ANIZY
URL:https://www.cphd-formations.com/evenement/reunion-dinformation-collective-poei-laon-anizy/
LOCATION:France Travail Laon\, Av. du Maréchal Foch\, Laon\, 02000\, France
CATEGORIES:Réunion d'information collective
ATTACH;FMTTYPE=image/png:https://www.cphd-formations.com/wp-content/uploads/2025/07/images-2.png
ORGANIZER;CN="CPHD Formations":MAILTO:contact@cphd-formations.com
END:VEVENT
BEGIN:VEVENT
DTSTART;TZID=Europe/Paris:20250722T090000
DTEND;TZID=Europe/Paris:20250722T120000
DTSTAMP:20260419T204258
CREATED:20250701T122604Z
LAST-MODIFIED:20250701T124529Z
UID:10000008-1753174800-1753185600@www.cphd-formations.com
SUMMARY:Réunion d'Information Collective POEI LAON/ANIZY
DESCRIPTION:« Tous les Évènements \nRéunion d’Informations Collectives POEI\n22 juillet\n–\n9h00\nà\n12h00\n\n\nAjouter au calendrier \n \n\nGoogle Agenda\niCalendar\nOutlook 365\nOutlook Live\n\n📢 Réunion d’Information Collective POEI – Laon / Anizy \n📅 Lundi 22 juillet 2025🕘 De 9h00 à 12h00📍 France Travail Laon – Parc Foch \nLors de cette réunion\, vous pourrez :✅ Découvrir nos parcours de formation✅ En apprendre plus sur les métiers du médico-social\, de la santé et de la petite enfance✅ Échanger avec notre équipe et poser toutes vos questions \n \n\nFrance Travail Laon \nAv. du Maréchal Foch \nLaon\,\n02000\nFrance \n+ Google Map \n  \nVoir Lieu site web \n\n \nFormulaire d’inscription\n\n\n\nNom\n\n\n\nPrénom\n\n\n\nEmail\n\n\n\nDate de l’événement\n\n\n\nNom de l’événement\n\n\n\nMessage \n\n\nEnvoyer votre demande d’inscription\n\n\n\n\nRéunion d’information collective
URL:https://www.cphd-formations.com/evenement/reunion-dinformations-collectives-poei/
LOCATION:France Travail Laon\, Av. du Maréchal Foch\, Laon\, 02000\, France
CATEGORIES:Réunion d'information collective
ATTACH;FMTTYPE=image/png:https://www.cphd-formations.com/wp-content/uploads/2025/07/images-2.png
ORGANIZER;CN="CPHD Formations":MAILTO:contact@cphd-formations.com
END:VEVENT
END:VCALENDAR