BEGIN:VCALENDAR
VERSION:2.0
PRODID:-//CPHD Formations - ECPv6.15.20//NONSGML v1.0//EN
CALSCALE:GREGORIAN
METHOD:PUBLISH
X-ORIGINAL-URL:https://www.cphd-formations.com
X-WR-CALDESC:Évènements pour CPHD Formations
REFRESH-INTERVAL;VALUE=DURATION:PT1H
X-Robots-Tag:noindex
X-PUBLISHED-TTL:PT1H
BEGIN:VTIMEZONE
TZID:Europe/Paris
BEGIN:DAYLIGHT
TZOFFSETFROM:+0100
TZOFFSETTO:+0200
TZNAME:CEST
DTSTART:20240331T010000
END:DAYLIGHT
BEGIN:STANDARD
TZOFFSETFROM:+0200
TZOFFSETTO:+0100
TZNAME:CET
DTSTART:20241027T010000
END:STANDARD
BEGIN:DAYLIGHT
TZOFFSETFROM:+0100
TZOFFSETTO:+0200
TZNAME:CEST
DTSTART:20250330T010000
END:DAYLIGHT
BEGIN:STANDARD
TZOFFSETFROM:+0200
TZOFFSETTO:+0100
TZNAME:CET
DTSTART:20251026T010000
END:STANDARD
BEGIN:DAYLIGHT
TZOFFSETFROM:+0100
TZOFFSETTO:+0200
TZNAME:CEST
DTSTART:20260329T010000
END:DAYLIGHT
BEGIN:STANDARD
TZOFFSETFROM:+0200
TZOFFSETTO:+0100
TZNAME:CET
DTSTART:20261025T010000
END:STANDARD
END:VTIMEZONE
BEGIN:VEVENT
DTSTART;TZID=Europe/Paris:20250911T133000
DTEND;TZID=Europe/Paris:20250911T170000
DTSTAMP:20260419T225959
CREATED:20250804T145237Z
LAST-MODIFIED:20250804T145411Z
UID:10000027-1757597400-1757610000@www.cphd-formations.com
SUMMARY:Réunion d'Information Collective POE Château-Thierry
DESCRIPTION:« Tous les Évènements\n \n\n	Réunion d’Information Collective POE Château-Thierry\n			11 septembre\n	  –\n13h30\n	  à\n17h00\n\n	\n	Ajouter au calendrier	\n		\n	\n \n\n\n	Google Agenda\n\n\n	iCalendar\n\n\n	Outlook 365\n\n\n	Outlook Live\n\n\n📢 Participez à notre prochaine Réunion d’Information Collective POE à Château-Thierry ! \n📅Jeudi 11 septembre 2025 \n🕘 De 13h30 à 17h \n📍A France travail Château-Thierry : 56 Avenue de la République – 02400 Château-Thierry \nVenez découvrir la formation Assistant(e) de Vie aux Familles\, les débouchés professionnels\, le contenu du parcours et poser toutes vos questions à notre équipe ! \n👉 Une étape essentielle pour rejoindre notre prochaine session de POE. 📩 Inscriptions : recrutement@cphd-formations.com \n📞 03 23 89 29 29 \n	 \n\n			\n		France travail CT			\n	\n\n56 Av. de la République\n		\n		Château-Thierry\,\n	02400\n	France\n\n\n	+ Google Map \n\n					\n						\n	 \n\n\n \nFormulaire d’inscription\n\n			\n			\n					\n			Nom\n						\n				\n					\n			Prénom\n						\n				\n					\n			Email\n						\n				\n					\n			Date de l’événement\n						\n				\n					\n			Nom de l’événement\n						\n				\n					\n			Message						\n				\n									\n						Envoyer votre demande d'inscription\n		\n				\n\n\n\n\n				Réunion d'Information Collective POE Château-Thierry
URL:https://www.cphd-formations.com/evenement/reunion-dinformation-collective-poe-chateau-thierry-5/
LOCATION:France Travail – Château-Thierry\, 56 Av. de la République\, Château-Thierry\, 02400\, France
CATEGORIES:Réunion d'information collective
ATTACH;FMTTYPE=image/jpeg:https://www.cphd-formations.com/wp-content/uploads/2025/08/COM-QC1.1-AFFICHE-RIC-CFA-10_Plan-de-travail-1-copie-4-1-scaled.jpg
ORGANIZER;CN="CPHD Formations":MAILTO:contact@cphd-formations.com
END:VEVENT
BEGIN:VEVENT
DTSTART;TZID=Europe/Paris:20250909T133000
DTEND;TZID=Europe/Paris:20250909T170000
DTSTAMP:20260419T225959
CREATED:20250804T144844Z
LAST-MODIFIED:20250909T085410Z
UID:10000026-1757424600-1757437200@www.cphd-formations.com
SUMMARY:Réunion d'Information Collective POE Château-Thierry
DESCRIPTION:« Tous les Évènements\n \n\n	Réunion d’Information Collective POE Château-Thierry\n			9 septembre 2025\n	  –\n13h30\n	  à\n17h00 \n📢 Participez à notre prochaine Réunion d’Information Collective POE à Château-Thierry ! \n📅Mardi 09 septembre 2025 \n🕘 De 13h30 à 17h \n📍A France travail Château-Thierry : 56 Avenue de la République – 02400 Château-Thierry \nVenez découvrir la formation Assistant(e) de Vie aux Familles\, les débouchés professionnels\, le contenu du parcours et poser toutes vos questions à notre équipe ! \n👉 Une étape essentielle pour rejoindre notre prochaine session de POE. 📩 Inscriptions : recrutement@cphd-formations.com \n📞 03 23 89 29 29 \n\n			\n		France Travail – Château-Thierry			\n	\n\n56 Av. de la République\n		\n		Château-Thierry\,\n	02400\n	France\n\n\n	+ Google Map \n\n					\n						\n	 \n\n\n \nFormulaire d’inscription\n\n			\n			\n					\n			Nom\n						\n				\n					\n			Prénom\n						\n				\n					\n			Email\n						\n				\n					\n			Date de l’événement\n						\n				\n					\n			Nom de l’événement\n						\n				\n					\n			Message						\n				\n									\n						Envoyer votre demande d'inscription
URL:https://www.cphd-formations.com/evenement/reunion-dinformation-collective-poe-chateau-thierry-4/
LOCATION:France Travail – Château-Thierry\, 56 Av. de la République\, Château-Thierry\, 02400\, France
CATEGORIES:Réunion d'information collective
ATTACH;FMTTYPE=image/jpeg:https://www.cphd-formations.com/wp-content/uploads/2025/08/COM-QC1.1-AFFICHE-RIC-CFA-9_Plan-de-travail-1-copie-4_Plan-de-travail-1-copie-4-1-scaled.jpg
ORGANIZER;CN="CPHD Formations":MAILTO:contact@cphd-formations.com
END:VEVENT
BEGIN:VEVENT
DTSTART;TZID=Europe/Paris:20250904T133000
DTEND;TZID=Europe/Paris:20250904T170000
DTSTAMP:20260419T225959
CREATED:20250804T144138Z
LAST-MODIFIED:20250804T144605Z
UID:10000025-1756992600-1757005200@www.cphd-formations.com
SUMMARY:Réunion d'Information Collective POE Château-Thierry
DESCRIPTION:« Tous les Évènements\n \n\n	Réunion d’Information Collective POE Château-Thierry\n			4 septembre\n	  –\n13h30\n	  à\n17h00\n\n	\n	Ajouter au calendrier	\n		\n	\n \n\n\n	Google Agenda\n\n\n	iCalendar\n\n\n	Outlook 365\n\n\n	Outlook Live\n\n\n📢 Participez à notre prochaine Réunion d’Information Collective POE à Château-Thierry ! \n📅Jeudi 04 septembre 2025 \n🕘 De 13h30 à 17h \n📍A France travail Château-Thierry : 56 Avenue de la République – 02400 Château-Thierry \nVenez découvrir la formation Assistant(e) de Vie aux Familles\, les débouchés professionnels\, le contenu du parcours et poser toutes vos questions à notre équipe ! \n👉 Une étape essentielle pour rejoindre notre prochaine session de POE. 📩 Inscriptions : recrutement@cphd-formations.com \n📞 03 23 89 29 29 \n	 \n\n			\n		France travail CT			\n	\n\n56 Av. de la République\n		\n		Château-Thierry\,\n	02400\n	France\n\n\n	+ Google Map \n\n					\n						\n	 \n\n\n \nFormulaire d’inscription\n\n			\n			\n					\n			Nom\n						\n				\n					\n			Prénom\n						\n				\n					\n			Email\n						\n				\n					\n			Date de l’événement\n						\n				\n					\n			Nom de l’événement\n						\n				\n					\n			Message						\n				\n									\n						Envoyer votre demande d'inscription\n		\n				\n\n\n\n\n				Réunion d'Information Collective POE Château-Thierry
URL:https://www.cphd-formations.com/evenement/reunion-dinformation-collective-poe-chateau-thierry-3/
LOCATION:France Travail – Château-Thierry\, 56 Av. de la République\, Château-Thierry\, 02400\, France
CATEGORIES:Réunion d'information collective
ATTACH;FMTTYPE=image/jpeg:https://www.cphd-formations.com/wp-content/uploads/2025/08/COM-QC1.1-AFFICHE-RIC-CFA-8_Plan-de-travail-1-copie-4_Plan-de-travail-1-copie-4-scaled.jpg
ORGANIZER;CN="CPHD Formations":MAILTO:contact@cphd-formations.com
END:VEVENT
BEGIN:VEVENT
DTSTART;TZID=Europe/Paris:20250902T133000
DTEND;TZID=Europe/Paris:20250902T170000
DTSTAMP:20260419T225959
CREATED:20250804T142314Z
LAST-MODIFIED:20250804T151243Z
UID:10000023-1756819800-1756832400@www.cphd-formations.com
SUMMARY:Réunion d'Information Collective POE Château-Thierry
DESCRIPTION:« Tous les Évènements \nRéunion d’Information Collective POE Château-Thierry\n2 septembre\n–\n13h30\nà\n17h00\n\n\nAjouter au calendrier \n  \n\nGoogle Agenda\niCalendar\nOutlook 365\nOutlook Live\n\n📢 Participez à notre prochaine Réunion d’Information Collective POE à Château-Thierry ! \n📅Mardi 02 septembre 2025 \n🕘 De 13h30 à 17h \n📍A France travail Château-Thierry : 56 Avenue de la République – 02400 Château-Thierry \nVenez découvrir la formation Assistant(e) de Vie aux Familles\, les débouchés professionnels\, le contenu du parcours et poser toutes vos questions à notre équipe ! \n👉 Une étape essentielle pour rejoindre notre prochaine session de POE. 📩 Inscriptions : recrutement@cphd-formations.com \n📞 03 23 89 29 29 \n \n\nFrance travail CT \n56 Av. de la RépubliqueChâteau-Thierry\,\n02400\nFrance \n\n+ Google Map \n  \n\n \nFormulaire d’inscription\n\n\n\nNom\n\n\n\nPrénom\n\n\n\nEmail\n\n\n\nDate de l’événement\n\n\n\nNom de l’événement\n\n\n\nMessage \n\n\nEnvoyer votre demande d’inscription\n\n\n\n\nRéunion d’Information Collective POE Château-Thierry
URL:https://www.cphd-formations.com/evenement/reunion-dinformation-collective-poe-chateau-thierry-2/
LOCATION:France Travail – Château-Thierry\, 56 Av. de la République\, Château-Thierry\, 02400\, France
CATEGORIES:Réunion d'information collective
ATTACH;FMTTYPE=image/jpeg:https://www.cphd-formations.com/wp-content/uploads/2025/08/COM-QC1.1-AFFICHE-RIC-CFA-6_Plan-de-travail-1-copie-4_Plan-de-travail-1-copie-4-scaled.jpg
ORGANIZER;CN="CPHD Formations":MAILTO:contact@cphd-formations.com
END:VEVENT
BEGIN:VEVENT
DTSTART;TZID=Europe/Paris:20250826T133000
DTEND;TZID=Europe/Paris:20250826T170000
DTSTAMP:20260419T225959
CREATED:20250804T141419Z
LAST-MODIFIED:20250804T141617Z
UID:10000022-1756215000-1756227600@www.cphd-formations.com
SUMMARY:Réunion d'Information Collective POE Château-Thierry
DESCRIPTION:« Tous les Évènements\n \n\n	Réunion d’Information Collective POE Château-Thierry\n			26 août\n	  –\n13h30\n	  à\n17h00\n\n	\n	Ajouter au calendrier	\n		\n	\n \n\n\n	Google Agenda\n\n\n	iCalendar\n\n\n	Outlook 365\n\n\n	Outlook Live\n\n\n📢 Participez à notre prochaine Réunion d’Information Collective POE à Château-Thierry ! \n📅 Mardi 26 août 2025 \n🕘 De 13h30 à 17h \n📍A France travail Château-Thierry : 56 Avenue de la République – 02400 Château-Thierry \nVenez découvrir la formation Assistant(e) de Vie aux Familles\, les débouchés professionnels\, le contenu du parcours et poser toutes vos questions à notre équipe ! \n👉 Une étape essentielle pour rejoindre notre prochaine session de POE. 📩 Inscriptions : recrutement@cphd-formations.com \n📞 03 23 89 29 29 \n	 \n\n			\n		France travail CT			\n	\n\n56 Av. de la République\n		\n		Château-Thierry\,\n	02400\n	France\n\n\n	+ Google Map \n\n					\n						\n	 \n\n\n \nFormulaire d’inscription\n\n			\n			\n					\n			Nom\n						\n				\n					\n			Prénom\n						\n				\n					\n			Email\n						\n				\n					\n			Date de l’événement\n						\n				\n					\n			Nom de l’événement\n						\n				\n					\n			Message						\n				\n									\n						Envoyer votre demande d'inscription\n		\n				\n\n\n\n\n				Réunion d'Information Collective POE Laon	\n\n\n	\n		Réunion d’Information Collective POEI Château-Thierry
URL:https://www.cphd-formations.com/evenement/reunion-dinformation-collective-poe-chateau-thierry/
LOCATION:France Travail – Château-Thierry\, 56 Av. de la République\, Château-Thierry\, 02400\, France
CATEGORIES:Réunion d'information collective
ATTACH;FMTTYPE=image/jpeg:https://www.cphd-formations.com/wp-content/uploads/2025/08/COM-QC1.1-AFFICHE-RIC-CFA-5_Plan-de-travail-1-copie-4_Plan-de-travail-1-copie-4-scaled.jpg
ORGANIZER;CN="CPHD Formations":MAILTO:contact@cphd-formations.com
END:VEVENT
END:VCALENDAR