BEGIN:VCALENDAR
VERSION:2.0
PRODID:-//CPHD Formations - ECPv6.15.20//NONSGML v1.0//EN
CALSCALE:GREGORIAN
METHOD:PUBLISH
X-ORIGINAL-URL:https://www.cphd-formations.com
X-WR-CALDESC:Évènements pour CPHD Formations
REFRESH-INTERVAL;VALUE=DURATION:PT1H
X-Robots-Tag:noindex
X-PUBLISHED-TTL:PT1H
BEGIN:VTIMEZONE
TZID:Europe/Paris
BEGIN:DAYLIGHT
TZOFFSETFROM:+0100
TZOFFSETTO:+0200
TZNAME:CEST
DTSTART:20240331T010000
END:DAYLIGHT
BEGIN:STANDARD
TZOFFSETFROM:+0200
TZOFFSETTO:+0100
TZNAME:CET
DTSTART:20241027T010000
END:STANDARD
BEGIN:DAYLIGHT
TZOFFSETFROM:+0100
TZOFFSETTO:+0200
TZNAME:CEST
DTSTART:20250330T010000
END:DAYLIGHT
BEGIN:STANDARD
TZOFFSETFROM:+0200
TZOFFSETTO:+0100
TZNAME:CET
DTSTART:20251026T010000
END:STANDARD
BEGIN:DAYLIGHT
TZOFFSETFROM:+0100
TZOFFSETTO:+0200
TZNAME:CEST
DTSTART:20260329T010000
END:DAYLIGHT
BEGIN:STANDARD
TZOFFSETFROM:+0200
TZOFFSETTO:+0100
TZNAME:CET
DTSTART:20261025T010000
END:STANDARD
END:VTIMEZONE
BEGIN:VEVENT
DTSTART;TZID=Europe/Paris:20250827T093000
DTEND;TZID=Europe/Paris:20250827T123000
DTSTAMP:20260419T212731
CREATED:20250807T081022Z
LAST-MODIFIED:20250807T083156Z
UID:10000034-1756287000-1756297800@www.cphd-formations.com
SUMMARY:Réunion D'information Collective POE Laon
DESCRIPTION:« Tous les Évènements\n \n\n	Réunion D’information Collective POE Laon\n			27 août\n	  –\n9h30\n	  à\n12h30\n\n	\n	Ajouter au calendrier	\n		\n	\n \n\n\n	Google Agenda\n\n\n	iCalendar\n\n\n	Outlook 365\n\n\n	Outlook Live\n\n\n Participez à notre prochaine Réunion d’Information Collective POE à Laon ! \n Mardi 27 août 2025 \n De 9h30 à 12h30 \nDans nos locaux au 130 Avenue Pierre Mendes France 02000 Laon. \nVenez découvrir la formation Assistant(e) de Vie aux Familles\, les débouchés professionnels\, le contenu du parcours et poser toutes vos questions à notre équipe ! \n Une étape essentielle pour rejoindre notre prochaine session de POE.  Inscriptions : recrutement@cphd-formations.com \n 03 23 89 29 29 \n	 \n\n			\n		CPHD Formations – Laon			\n	\n\n130 avenue Pierre Mendès France\n		\n		Laon\,\n	02000\n	France\n\n\n	+ Google Map \n\n					\n						\n	 \n\n\n \nFormulaire d’inscription\n\n			\n			\n					\n			Nom\n						\n				\n					\n			Prénom\n						\n				\n					\n			Email\n						\n				\n					\n			Date de l’événement\n						\n				\n					\n			Nom de l’événement\n						\n				\n					\n			Message						\n				\n									\n						Envoyer votre demande d'inscription\n		\n				\n\n\n\n\n				Réunion d'Information Collective POE Château-Thierry	\n\n\n	\n		Réunion d'Information Collective Jeunes – 29 ans
URL:https://www.cphd-formations.com/evenement/reunion-dinformation-collective-poe-laon-6/
LOCATION:CPHD Formations – Laon\, 130 avenue Pierre Mendès France\, Laon\, 02000\, France
CATEGORIES:Réunion d'information collective
ATTACH;FMTTYPE=image/jpeg:https://www.cphd-formations.com/wp-content/uploads/2025/08/COM-QC1.1-AFFICHE-RIC-27-aout-MAJ-2023-06-19_Plan-de-travail-1-copie-4-1-scaled.jpg
ORGANIZER;CN="CPHD Formations":MAILTO:contact@cphd-formations.com
END:VEVENT
BEGIN:VEVENT
DTSTART;TZID=Europe/Paris:20250822T093000
DTEND;TZID=Europe/Paris:20250822T123000
DTSTAMP:20260419T212731
CREATED:20250807T080657Z
LAST-MODIFIED:20250807T083040Z
UID:10000033-1755855000-1755865800@www.cphd-formations.com
SUMMARY:Réunion D'information Collective POE Laon
DESCRIPTION:« Tous les Évènements\n \n\n	Réunion D’information Collective POE Laon\n			22 août\n	  –\n9h30\n	  à\n12h30\n\n	\n	Ajouter au calendrier	\n		\n	\n \n\n\n	Google Agenda\n\n\n	iCalendar\n\n\n	Outlook 365\n\n\n	Outlook Live\n\n\n Participez à notre prochaine Réunion d’Information Collective POE à Laon ! \n Mardi 22 août 2025 \n De 9h30 à 12h30 \nDans nos locaux au 130 Avenue Pierre Mendes France 02000 Laon. \nVenez découvrir la formation Assistant(e) de Vie aux Familles\, les débouchés professionnels\, le contenu du parcours et poser toutes vos questions à notre équipe ! \n Une étape essentielle pour rejoindre notre prochaine session de POE.  Inscriptions : recrutement@cphd-formations.com \n 03 23 89 29 29 \n	 \n\n			\n		CPHD Formations – Laon			\n	\n\n130 avenue Pierre Mendès France\n		\n		Laon\,\n	02000\n	France\n\n\n	+ Google Map \n\n					\n						\n	 \n\n\n \nFormulaire d’inscription\n\n			\n			\n					\n			Nom\n						\n				\n					\n			Prénom\n						\n				\n					\n			Email\n						\n				\n					\n			Date de l’événement\n						\n				\n					\n			Nom de l’événement\n						\n				\n					\n			Message						\n				\n									\n						Envoyer votre demande d'inscription\n		\n				\n\n\n\n\n				Réunion d'Information Collective POE Laon	\n\n\n	\n		Réunion d'Information Collective POE Château-Thierry
URL:https://www.cphd-formations.com/evenement/reunion-dinformation-collective-poe-laon-5/
LOCATION:CPHD Formations – Laon\, 130 avenue Pierre Mendès France\, Laon\, 02000\, France
CATEGORIES:Réunion d'information collective
ATTACH;FMTTYPE=image/jpeg:https://www.cphd-formations.com/wp-content/uploads/2025/08/COM-QC1.1-AFFICHE-RIC-22-aout-MAJ-2023-06-19_Plan-de-travail-1-copie-4-1-scaled.jpg
ORGANIZER;CN="CPHD Formations":MAILTO:contact@cphd-formations.com
END:VEVENT
BEGIN:VEVENT
DTSTART;TZID=Europe/Paris:20250626T093000
DTEND;TZID=Europe/Paris:20250626T170000
DTSTAMP:20260419T212731
CREATED:20250527T081738Z
LAST-MODIFIED:20250527T081738Z
UID:10000005-1750930200-1750957200@www.cphd-formations.com
SUMMARY:Salon 15 métiers de l'humain et petite enfance
DESCRIPTION:
URL:https://www.cphd-formations.com/evenement/salon-15-metiers-de-lhumain-et-petite-enfance/
LOCATION:CPHD Formations – Laon\, 130 avenue Pierre Mendès France\, Laon\, 02000\, France
CATEGORIES:Salon
END:VEVENT
BEGIN:VEVENT
DTSTART;TZID=Europe/Paris:20250623T140000
DTEND;TZID=Europe/Paris:20250623T163000
DTSTAMP:20260419T212731
CREATED:20250619T134236Z
LAST-MODIFIED:20250619T134623Z
UID:10000006-1750687200-1750696200@www.cphd-formations.com
SUMMARY:Réunion d'information collective
DESCRIPTION:
URL:https://www.cphd-formations.com/evenement/reunion-dinformation-collective-23-juin-2025/
LOCATION:CPHD Formations – Laon\, 130 avenue Pierre Mendès France\, Laon\, 02000\, France
CATEGORIES:Réunion d'information collective
END:VEVENT
BEGIN:VEVENT
DTSTART;TZID=Europe/Paris:20250507T100000
DTEND;TZID=Europe/Paris:20250507T183000
DTSTAMP:20260419T212731
CREATED:20250317T100709Z
LAST-MODIFIED:20250430T085034Z
UID:10000004-1746612000-1746642600@www.cphd-formations.com
SUMMARY:Réunion d'informations collectives
DESCRIPTION:« Tous les Évènements\n \n\n	Réunion d’informations collectives\n			7 mai\n	  –\n10h00\n	  à\n18h30\n\n	\n	Ajouter au calendrier	\n		\n	\n \n\n\n	Google Agenda\n\n\n	iCalendar\n\n\n	Outlook 365\n\n\n	Outlook Live\n\n\nTexte de description de l’événement… \n	 \n\n			\n		CPHD Laon			\n	\n\n130 avenue Pierre Mendès France\n		\n		Laon\,\n	02000\n	France\n\n\n	+ Google Map \n\n					\n						\n	 \n\n\n \nModalités d’inscription\nDétail des modalités d’inscription… \nFormulaire d’inscription\n\n			\n			\n					\n			Nom\n						\n				\n					\n			Prénom\n						\n				\n					\n			Email\n						\n				\n					\n			Date de l’événement\n						\n				\n					\n			Nom de l’événement\n						\n				\n					\n			Message						\n				\n									\n						Envoyer votre demande d'inscription\n		\n				\n\n\n\n	\n		Portes ouvertes de 15 métiers
URL:https://www.cphd-formations.com/evenement/reunion-dinformations-collectives-2/
LOCATION:CPHD Formations – Laon\, 130 avenue Pierre Mendès France\, Laon\, 02000\, France
CATEGORIES:Réunion d'information collective
ATTACH;FMTTYPE=image/jpeg:https://www.cphd-formations.com/wp-content/uploads/2025/04/image-3.jpeg
END:VEVENT
END:VCALENDAR