BEGIN:VCALENDAR
VERSION:2.0
PRODID:-//CPHD Formations - ECPv6.15.20//NONSGML v1.0//EN
CALSCALE:GREGORIAN
METHOD:PUBLISH
X-ORIGINAL-URL:https://www.cphd-formations.com
X-WR-CALDESC:Évènements pour CPHD Formations
REFRESH-INTERVAL;VALUE=DURATION:PT1H
X-Robots-Tag:noindex
X-PUBLISHED-TTL:PT1H
BEGIN:VTIMEZONE
TZID:Europe/Paris
BEGIN:DAYLIGHT
TZOFFSETFROM:+0100
TZOFFSETTO:+0200
TZNAME:CEST
DTSTART:20240331T010000
END:DAYLIGHT
BEGIN:STANDARD
TZOFFSETFROM:+0200
TZOFFSETTO:+0100
TZNAME:CET
DTSTART:20241027T010000
END:STANDARD
BEGIN:DAYLIGHT
TZOFFSETFROM:+0100
TZOFFSETTO:+0200
TZNAME:CEST
DTSTART:20250330T010000
END:DAYLIGHT
BEGIN:STANDARD
TZOFFSETFROM:+0200
TZOFFSETTO:+0100
TZNAME:CET
DTSTART:20251026T010000
END:STANDARD
BEGIN:DAYLIGHT
TZOFFSETFROM:+0100
TZOFFSETTO:+0200
TZNAME:CEST
DTSTART:20260329T010000
END:DAYLIGHT
BEGIN:STANDARD
TZOFFSETFROM:+0200
TZOFFSETTO:+0100
TZNAME:CET
DTSTART:20261025T010000
END:STANDARD
END:VTIMEZONE
BEGIN:VEVENT
DTSTART;TZID=Europe/Paris:20250919T100000
DTEND;TZID=Europe/Paris:20250919T123000
DTSTAMP:20260419T205700
CREATED:20250806T071938Z
LAST-MODIFIED:20250806T072322Z
UID:10000032-1758276000-1758285000@www.cphd-formations.com
SUMMARY:Réunion d'Information Collective - 29 ans
DESCRIPTION:« Tous les Évènements\n \n\n	Réunion d’Information Collective – 29 ans\n			19 septembre\n	  –\n10h00\n	  à\n12h30\n\n	\n	Ajouter au calendrier	\n		\n	\n \n\n\n	Google Agenda\n\n\n	iCalendar\n\n\n	Outlook 365\n\n\n	Outlook Live\n\n\n📢 Réunion d’Information Collective : Ouvrez les portes du médico-social\, de la petite enfance et de la santé ! 🏥👶 \nCPHD-Formations organise une Réunion d’Information Collective pour accompagner les jeunes de 16 à 29 ans et leur permettre de découvrir des opportunités professionnelles dans le secteur du médico-social\, de la petite enfance et de la santé. \n📅 Date : Vendredi 19 septembre 2025 📍 Lieu CFA de Laon : 112 Rue de la Huree \, 02000 Laon \n 🕘 Horaires : 10h – 12h30 \nTu as moins de 29 ans et tu cherches une direction ? \n 👉 Viens découvrir notre accompagnement dédié aux jeunes de moins de 29 ans\, sur 3 mois\, du 17 septembre au 19 décembre 2025 ! \n🎓 Au programme : \n🔎 3 stages découvertes dans les métiers suivants : • Auxiliaire de vie • Agent de propreté et d’hygiène • Assistante maternelle / Auxiliaire de puériculture \n🧠 Un accompagnement autour du développement des compétences \n🎯 De la pratique\, de la réflexion\, de l’expérience… et surtout un vrai boost pour ton projet professionnel ! \nNe laissez pas passer cette opportunité ! 🌟 \n 📩 Infos & inscriptions : \n📧 Mail : \n recrutement@cphd-formations.com \n📞 Téléphone : 03 23 89 29 29 \n📌 Cette action est cofinancée par la Région Hauts-de-France et l’Union européenne. \n															\n	 \n\n			\n		CFA CPHD LAON 2			\n	\n\n112 rue de la huree\n		\n		laon\,\n	Aisne\n	02000\n	France\n\n\n	+ Google Map \n\n					\n			0323892933			\n	 \n\n\n \nFormulaire d’inscription\n\n			\n			\n					\n			Nom\n						\n				\n					\n			Prénom\n						\n				\n					\n			Email\n						\n				\n					\n			Date de l’événement\n						\n				\n					\n			Nom de l’événement\n						\n				\n					\n			Message						\n				\n									\n						Envoyer votre demande d'inscription\n		\n				\n\n\n\n\n				Réunion d'Information Collective POE Soissons
URL:https://www.cphd-formations.com/evenement/reunion-dinformation-collective-29-ans-3/
LOCATION:CFA CPHD LAON 2\, 112 rue de la huree\, laon\, Aisne\, 02000\, France
CATEGORIES:Réunion d'information collective
ATTACH;FMTTYPE=image/png:https://www.cphd-formations.com/wp-content/uploads/2025/08/Flyer-neets-04-05-1-scaled.png
ORGANIZER;CN="CPHD Formations":MAILTO:contact@cphd-formations.com
END:VEVENT
BEGIN:VEVENT
DTSTART;TZID=Europe/Paris:20250912T100000
DTEND;TZID=Europe/Paris:20250912T123000
DTSTAMP:20260419T205700
CREATED:20250806T071245Z
LAST-MODIFIED:20250806T071453Z
UID:10000031-1757671200-1757680200@www.cphd-formations.com
SUMMARY:Réunion d'Information Collective - 29 ans
DESCRIPTION:« Tous les Évènements\n \n\n	Réunion d’Information Collective – 29 ans\n			12 septembre\n	  –\n10h00\n	  à\n12h30\n\n	\n	Ajouter au calendrier	\n		\n	\n \n\n\n	Google Agenda\n\n\n	iCalendar\n\n\n	Outlook 365\n\n\n	Outlook Live\n\n\n📢 Réunion d’Information Collective : Ouvrez les portes du médico-social\, de la petite enfance et de la santé ! 🏥👶 \nCPHD-Formations organise une Réunion d’Information Collective pour accompagner les jeunes de 16 à 29 ans et leur permettre de découvrir des opportunités professionnelles dans le secteur du médico-social\, de la petite enfance et de la santé. \n📅 Date : Vendredi  12 septembre 2025 📍 Lieu CFA de Laon : 112 Rue de la Huree \, 02000 Laon \n 🕘 Horaires : 10h – 12h30 \nTu as moins de 29 ans et tu cherches une direction ? \n 👉 Viens découvrir notre accompagnement dédié aux jeunes de moins de 29 ans\, sur 3 mois\, du 17 septembre au 19 décembre 2025 ! \n🎓 Au programme : \n🔎 3 stages découvertes dans les métiers suivants : • Auxiliaire de vie • Agent de propreté et d’hygiène • Assistante maternelle / Auxiliaire de puériculture \n🧠 Un accompagnement autour du développement des compétences \n🎯 De la pratique\, de la réflexion\, de l’expérience… et surtout un vrai boost pour ton projet professionnel ! Ne laissez pas passer cette opportunité ! 🌟 \n 📩 Infos & inscriptions : \n📧 Mail : \n recrutement@cphd-formations.com \n📞 Téléphone : 03 23 89 29 29 \n📌 Cette action est cofinancée par la Région Hauts-de-France et l’Union européenne. \n															\n	 \n\n			\n		CFA CPHD LAON 2			\n	\n\n114 rue de la huree\n		\n		laon\,\n	–\n	02000\n	France\n\n\n	+ Google Map \n\n					\n			0323892933			\n	 \n\n\n \nFormulaire d’inscription\n\n			\n			\n					\n			Nom\n						\n				\n					\n			Prénom\n						\n				\n					\n			Email\n						\n				\n					\n			Date de l’événement\n						\n				\n					\n			Nom de l’événement\n						\n				\n					\n			Message						\n				\n									\n						Envoyer votre demande d'inscription\n		\n				\n\n\n\n\n				Réunion d'Information Collective POE Château-Thierry	\n\n\n	\n		Réunion d'Information Collective POE Soissons
URL:https://www.cphd-formations.com/evenement/reunion-dinformation-collective-29-ans-2/
LOCATION:CFA CPHD LAON 2\, 112 rue de la huree\, laon\, Aisne\, 02000\, France
CATEGORIES:Réunion d'information collective
ATTACH;FMTTYPE=image/png:https://www.cphd-formations.com/wp-content/uploads/2025/08/Flyer-neets-04-05-scaled.png
ORGANIZER;CN="CPHD Formations":MAILTO:contact@cphd-formations.com
END:VEVENT
BEGIN:VEVENT
DTSTART;TZID=Europe/Paris:20250905T100000
DTEND;TZID=Europe/Paris:20250905T123000
DTSTAMP:20260419T205700
CREATED:20250806T070814Z
LAST-MODIFIED:20250806T071132Z
UID:10000030-1757066400-1757075400@www.cphd-formations.com
SUMMARY:Réunion d'Information Collective - 29 ans
DESCRIPTION:« Tous les Évènements \nRéunion d’Information Collective – 29 ans\n5 septembre\n–\n10h00\nà\n12h30\n\n\nAjouter au calendrier \n \n\nGoogle Agenda\niCalendar\nOutlook 365\nOutlook Live\n\n📢 Réunion d’Information Collective : Ouvrez les portes du médico-social\, de la petite enfance et de la santé ! 🏥👶 \nCPHD-Formations organise une Réunion d’Information Collective pour accompagner les jeunes de 16 à 29 ans et leur permettre de découvrir des opportunités professionnelles dans le secteur du médico-social\, de la petite enfance et de la santé. \n📅 Date : Vendredi 05 septembre 2025 📍 Lieu CFA de Laon : 112 Rue de la Huree \, 02000 Laon \n🕘 Horaires : 10h – 12h30 \nTu as moins de 29 ans et tu cherches une direction ? \n👉 Viens découvrir notre accompagnement dédié aux jeunes de moins de 29 ans\, sur 3 mois\, du 17 septembre au 19 décembre 2025 ! \n🎓 Au programme : \n🔎 3 stages découvertes dans les métiers suivants :\n• Auxiliaire de vie\n• Agent de propreté et d’hygiène\n• Assistante maternelle / Auxiliaire de puériculture \n🧠 Un accompagnement autour du développement des compétences \n🎯 De la pratique\, de la réflexion\, de l’expérience… et surtout un vrai boost pour ton projet professionnel ! \nNe laissez pas passer cette opportunité ! 🌟 \n📩 Infos & inscriptions : \n📧 Mail : \nrecrutement@cphd-formations.com \n📞 Téléphone : 03 23 89 29 29 \n📌 Cette action est cofinancée par la Région Hauts-de-France et l’Union européenne. \n\n \n\nCFA CPHD LAON 2 \n114 rue de la huree \nlaon\,\n–\n02000\nFrance\n+ Google Map \n\n0323892933  \n\n \nFormulaire d’inscription\n\n\n\nNom\n\n\n\nPrénom\n\n\n\nEmail\n\n\n\nDate de l’événement\n\n\n\nNom de l’événement\n\n\n\nMessage \n\n\nEnvoyer votre demande d’inscription\n\n\n\n\nRéunion d’Information Collective POE Château-Thierry \n\nRéunion d’Information Collective POE Château-Thierry
URL:https://www.cphd-formations.com/evenement/reunion-dinformation-collective-29-ans/
LOCATION:CFA CPHD LAON 2\, 112 rue de la huree\, laon\, Aisne\, 02000\, France
CATEGORIES:Réunion d'information collective
ATTACH;FMTTYPE=image/png:https://www.cphd-formations.com/wp-content/uploads/2025/08/Flyer-neets-04-05-1-scaled.png
ORGANIZER;CN="CPHD Formations":MAILTO:contact@cphd-formations.com
END:VEVENT
BEGIN:VEVENT
DTSTART;TZID=Europe/Paris:20250828T100000
DTEND;TZID=Europe/Paris:20250828T123000
DTSTAMP:20260419T205700
CREATED:20250805T151957Z
LAST-MODIFIED:20250805T152947Z
UID:10000029-1756375200-1756384200@www.cphd-formations.com
SUMMARY:Réunion d'Information Collective Jeunes - 29 ans
DESCRIPTION:« Tous les Évènements \nCet évènement est passé. \nRéunion d’Information Collective Jeunes – 29 ans\n5 août\n–\n8h00\nà\n17h00\n\n\nAjouter au calendrier \n  \n\nGoogle Agenda\niCalendar\nOutlook 365\nOutlook Live\n\n \n📢 Réunion d’Information Collective : Ouvrez les portes du médico-social\, de la petite enfance et de la santé ! 🏥👶 \nCPHD-Formations organise une Réunion d’Information Collective pour accompagner les jeunes de 16 à 29 ans et leur permettre de découvrir des opportunités professionnelles dans le secteur du médico-social\, de la petite enfance et de la santé. \n📅 Date : Jeudi 28 août 2025 📍 Lieu CFA de Laon : 112 Rue de la Huree \, 02000 Laon \n🕘 Horaires : 10h – 12h30 \nTu as moins de 29 ans et tu cherches une direction ? \n👉 Viens découvrir notre accompagnement dédié aux jeunes de moins de 29 ans\, sur 3 mois\, du 17 septembre au 19 décembre 2025 ! \n🎓 Au programme : \n🔎 3 stages découvertes dans les métiers suivants :\n• Auxiliaire de vie\n• Agent de propreté et d’hygiène\n• Assistante maternelle / Auxiliaire de puériculture \n🧠 Un accompagnement autour du développement des compétences \n🎯 De la pratique\, de la réflexion\, de l’expérience… et surtout un vrai boost pour ton projet professionnel ! \nNe laissez pas passer cette opportunité ! 🌟 \n📩 Infos & inscriptions : \n📧 Mail : recrutement@cphd-formations.com \n📞 Téléphone : 03 23 89 29 29 \n📌 Cette action est cofinancée par la Région Hauts-de-France et l’Union européenne. \nFormulaire d’inscription\n\n\n\nNom\n\n\n\nPrénom\n\n\n\nEmail\n\n\n\nDate de l’événement\n\n\n\nNom de l’événement\n\n\n\nMessage \n\n\nEnvoyer votre demande d’inscription\n\n\n\n\nRéunion d’Information Collective POE Laon \n\nRéunion d’Information Collective POE Laon
URL:https://www.cphd-formations.com/evenement/reunion-dinformation-collective-jeunes-29-ans/
LOCATION:CFA CPHD LAON 2\, 112 rue de la huree\, laon\, Aisne\, 02000\, France
CATEGORIES:Réunion d'information collective
ATTACH;FMTTYPE=image/png:https://www.cphd-formations.com/wp-content/uploads/2025/08/Flyer-neets-04-05-scaled.png
ORGANIZER;CN="CPHD Formations":MAILTO:contact@cphd-formations.com
END:VEVENT
BEGIN:VEVENT
DTSTART;TZID=Europe/Paris:20250724T100000
DTEND;TZID=Europe/Paris:20250724T123000
DTSTAMP:20260419T205700
CREATED:20250710T091051Z
LAST-MODIFIED:20250710T091802Z
UID:10000016-1753351200-1753360200@www.cphd-formations.com
SUMMARY:Réunion d’Information Collective NEETS LAON
DESCRIPTION:« Tous les Évènements \nRéunion d’Information Collective NEETS LAON\n24 juillet\n–\n10h00\nà\n12h30\n\n\nAjouter au calendrier \n  \n\nGoogle Agenda\niCalendar\nOutlook 365\nOutlook Live\n\n📢 Réunion d’Information Collective – Jeunes 16-29 ans \nVous avez entre 16 et 29 ans ?Vous êtes sans emploi\, sans formation ou en questionnement sur votre avenir ?👉 Venez découvrir notre accompagnements dans les secteurs médico-social\, santé et petite enfance. \n📅 Jeudi 24 juillet 2025🕑 De 10h00 à 12h30📍 CFA CPHD – 114 Rue de la Huree  \n✅ Lors de cette réunion\, vous pourrez :• Poser toutes vos questions• Rencontrer notre équipe• Découvrir les parcours qui peuvent vous aider à rebondir \n🎯 Cette rencontre est ouverte à tous les jeunes motivés à construire leur avenir. \n🤝 Cette action est cofinancée par la Région Hauts-de-France et l’Union européenne. \n \n\n114 rue de la Huree Laon \n114 rue de la hureelaon\,\n–\n02000\nFrance \n\n+ Google Map \n\n0323892933  \n\n \nFormulaire d’inscription\n\n\n\nNom\n\n\n\nPrénom\n\n\n\nEmail\n\n\n\nDate de l’événement\n\n\n\nNom de l’événement\n\n\n\nMessage \n\n\nEnvoyer votre demande d’inscription\n\n\n\n\nRéunion d’Information Collective POEI LAON/ANIZY \n\nRéunion d’Information Collective POEI LAON/ANIZY
URL:https://www.cphd-formations.com/evenement/reunion-dinformation-collective-neets-laon-2/
LOCATION:CFA CPHD LAON 2\, 112 rue de la huree\, laon\, Aisne\, 02000\, France
CATEGORIES:Réunion d'information collective
ATTACH;FMTTYPE=image/jpeg:https://www.cphd-formations.com/wp-content/uploads/2025/06/logo-facebook-cphd-scaled.jpg
ORGANIZER;CN="CPHD Formations":MAILTO:contact@cphd-formations.com
END:VEVENT
BEGIN:VEVENT
DTSTART;TZID=Europe/Paris:20250717T100000
DTEND;TZID=Europe/Paris:20250717T123000
DTSTAMP:20260419T205700
CREATED:20250710T090438Z
LAST-MODIFIED:20250710T093456Z
UID:10000015-1752746400-1752755400@www.cphd-formations.com
SUMMARY:Réunion d’Information Collective NEETS LAON
DESCRIPTION:« Tous les Évènements \nRéunion d’Information Collective NEETS LAON\n17 juillet\n–\n10h00\nà\n12h30\n\n\nAjouter au calendrier \n  \n\nGoogle Agenda\niCalendar\nOutlook 365\nOutlook Live\n\n📢 Réunion d’Information Collective – Jeunes 16-29 ans \nVous avez entre 16 et 29 ans ?Vous êtes sans emploi\, sans formation ou en questionnement sur votre avenir ?👉 Venez découvrir notre accompagnements dans les secteurs médico-social\, santé et petite enfance. \n📅 Jeudi 17 juillet 2025🕑 De 10h00 à 12h30📍 CFA CPHD – 114 Rue de la Huree LAON  \n✅ Lors de cette réunion\, vous pourrez :• Poser toutes vos questions• Rencontrer notre équipe• Découvrir les parcours qui peuvent vous aider à rebondir \n🎯 Cette rencontre est ouverte à tous les jeunes motivés à construire leur avenir. \n🤝 Cette action est cofinancée par la Région Hauts-de-France et l’Union européenne. \n \n\n114 rue de la Huree Laon \n114 rue de la hureelaon\,\n–\n02000\nFrance\n+ Google Map \n\n0323892933  \n\n \nFormulaire d’inscription\n\n\n\nNom\n\n\n\nPrénom\n\n\n\nEmail\n\n\n\nDate de l’événement\n\n\n\nNom de l’événement\n\n\n\nMessage \n\n\nEnvoyer votre demande d’inscription\n\n\n\n\nRéunion d’Information Collective NEETS \n\nRéunion d’Information Collective POEI LAON/ANIZY
URL:https://www.cphd-formations.com/evenement/reunion-dinformation-collective-neets-laon/
LOCATION:CFA CPHD LAON 2\, 112 rue de la huree\, laon\, Aisne\, 02000\, France
CATEGORIES:Réunion d'information collective
ATTACH;FMTTYPE=image/jpeg:https://www.cphd-formations.com/wp-content/uploads/2025/06/logo-facebook-cphd-scaled.jpg
ORGANIZER;CN="CPHD Formations":MAILTO:contact@cphd-formations.com
END:VEVENT
END:VCALENDAR