BEGIN:VCALENDAR
VERSION:2.0
PRODID:-//CPHD Formations - ECPv6.15.20//NONSGML v1.0//EN
CALSCALE:GREGORIAN
METHOD:PUBLISH
X-WR-CALNAME:CPHD Formations
X-ORIGINAL-URL:https://www.cphd-formations.com
X-WR-CALDESC:Évènements pour CPHD Formations
REFRESH-INTERVAL;VALUE=DURATION:PT1H
X-Robots-Tag:noindex
X-PUBLISHED-TTL:PT1H
BEGIN:VTIMEZONE
TZID:Europe/Paris
BEGIN:DAYLIGHT
TZOFFSETFROM:+0100
TZOFFSETTO:+0200
TZNAME:CEST
DTSTART:20240331T010000
END:DAYLIGHT
BEGIN:STANDARD
TZOFFSETFROM:+0200
TZOFFSETTO:+0100
TZNAME:CET
DTSTART:20241027T010000
END:STANDARD
BEGIN:DAYLIGHT
TZOFFSETFROM:+0100
TZOFFSETTO:+0200
TZNAME:CEST
DTSTART:20250330T010000
END:DAYLIGHT
BEGIN:STANDARD
TZOFFSETFROM:+0200
TZOFFSETTO:+0100
TZNAME:CET
DTSTART:20251026T010000
END:STANDARD
BEGIN:DAYLIGHT
TZOFFSETFROM:+0100
TZOFFSETTO:+0200
TZNAME:CEST
DTSTART:20260329T010000
END:DAYLIGHT
BEGIN:STANDARD
TZOFFSETFROM:+0200
TZOFFSETTO:+0100
TZNAME:CET
DTSTART:20261025T010000
END:STANDARD
END:VTIMEZONE
BEGIN:VEVENT
DTSTART;TZID=Europe/Paris:20250507T100000
DTEND;TZID=Europe/Paris:20250507T183000
DTSTAMP:20260419T201818
CREATED:20250317T100709Z
LAST-MODIFIED:20250430T085034Z
UID:71-1746612000-1746642600@www.cphd-formations.com
SUMMARY:Réunion d'informations collectives
DESCRIPTION:« Tous les Évènements\n 				\n				\n				\n				\n					Cet évènement est passé. \n				\n				\n				\n				\n					\n	Réunion d’informations collectives				\n				\n				\n				\n					\n		\n			7 mai\n\n	\n\n	  -  \n\n\n10h00\n\n		\n\n\n\n	\n	  à  \n\n18h30\n\n\n\n	\n				\n				\n				\n				\n					\n	\n		\n\n	\n	Ajouter au calendrier	\n		\n	\n\n		\n			\n									\n	Google Agenda\n\n									\n	iCalendar\n\n									\n	Outlook 365\n\n									\n	Outlook Live\n\n							\n		\n\n		\n	\n\n				\n				\n				\n				\n									Texte de description de l’événement… 								\n				\n				\n				\n					\n	\n				\n				\n				\n						\n					\n			\n						\n				\n					\n				\n				\n	\n			\n		CPHD Formations – Laon			\n	\n	\n	\n\n130 avenue Pierre Mendès France\n	\n		\n		Laon\,\n\n\n	02000\n\n	France\n\n\n\n\n	+ Google Map \n\n\n	\n					\n						\n	 \n\n\n	\n	 \n\n\n\n	\n\n\n\n		\n	\n				\n				\n					\n		\n					\n		\n				\n						\n					\n			\n							\n		\n					\n		\n				\n				\n							\n			\n						\n		\n						\n				\n				\n				\n									Modalités d’inscription								\n				\n				\n				\n									Détail des modalités d’inscription… 								\n				\n				\n				\n									Formulaire d’inscription								\n				\n				\n				\n							\n			\n			\n					\n					\n			Nom							\n						\n				\n				\n				\n					\n			Prénom							\n						\n				\n				\n				\n					\n			Email							\n						\n				\n				\n				\n					\n			Date de l'événement							\n						\n				\n				\n				\n					\n			Nom de l'événement							\n						\n				\n				\n				\n					\n			Message						\n				\n				\n				\n					\n							\n									\n						Envoyer votre demande d'inscription\n		\n							\n				\n\n								\n				\n				\n						\n					\n			\n						\n				\n					\n	\n		\n		\n	\n		Portes ouvertes de 15 métiers
URL:https://www.cphd-formations.com/evenement/reunion-dinformations-collectives-2/
LOCATION:CPHD Formations – Laon\, 130 avenue Pierre Mendès France\, Laon\, 02000\, France
CATEGORIES:Réunion d'information collective
ATTACH;FMTTYPE=image/jpeg:https://www.cphd-formations.com/wp-content/uploads/2025/04/image-3.jpeg
END:VEVENT
END:VCALENDAR