BEGIN:VCALENDAR
VERSION:2.0
PRODID:-//CPHD Formations - ECPv6.15.20//NONSGML v1.0//EN
CALSCALE:GREGORIAN
METHOD:PUBLISH
X-WR-CALNAME:CPHD Formations
X-ORIGINAL-URL:https://www.cphd-formations.com
X-WR-CALDESC:Évènements pour CPHD Formations
REFRESH-INTERVAL;VALUE=DURATION:PT1H
X-Robots-Tag:noindex
X-PUBLISHED-TTL:PT1H
BEGIN:VTIMEZONE
TZID:Europe/Paris
BEGIN:DAYLIGHT
TZOFFSETFROM:+0100
TZOFFSETTO:+0200
TZNAME:CEST
DTSTART:20240331T010000
END:DAYLIGHT
BEGIN:STANDARD
TZOFFSETFROM:+0200
TZOFFSETTO:+0100
TZNAME:CET
DTSTART:20241027T010000
END:STANDARD
BEGIN:DAYLIGHT
TZOFFSETFROM:+0100
TZOFFSETTO:+0200
TZNAME:CEST
DTSTART:20250330T010000
END:DAYLIGHT
BEGIN:STANDARD
TZOFFSETFROM:+0200
TZOFFSETTO:+0100
TZNAME:CET
DTSTART:20251026T010000
END:STANDARD
BEGIN:DAYLIGHT
TZOFFSETFROM:+0100
TZOFFSETTO:+0200
TZNAME:CEST
DTSTART:20260329T010000
END:DAYLIGHT
BEGIN:STANDARD
TZOFFSETFROM:+0200
TZOFFSETTO:+0100
TZNAME:CET
DTSTART:20261025T010000
END:STANDARD
END:VTIMEZONE
BEGIN:VEVENT
DTSTART;TZID=Europe/Paris:20250804T080000
DTEND;TZID=Europe/Paris:20250804T170000
DTSTAMP:20260419T204221
CREATED:20250804T130814Z
LAST-MODIFIED:20250804T131254Z
UID:2042-1754294400-1754326800@www.cphd-formations.com
SUMMARY:Réunion d'Information Collective POE Laon
DESCRIPTION:« Tous les Évènements\n 				\n				\n				\n				\n					Cet évènement est passé. \n				\n				\n				\n				\n					\n	Réunion d’Information Collective POE Laon				\n				\n				\n				\n					\n		\n			4 août\n\n	\n\n	  -  \n\n\n8h00\n\n		\n\n\n\n	\n	  à  \n\n17h00\n\n\n\n	\n				\n				\n				\n				\n					\n	\n		\n\n	\n	Ajouter au calendrier	\n		\n	\n\n		\n			\n									\n	Google Agenda\n\n									\n	iCalendar\n\n									\n	Outlook 365\n\n									\n	Outlook Live\n\n							\n		\n\n		\n	\n\n				\n				\n				\n				\n									 Participez à notre prochaine Réunion d’Information Collective POE à Laon ! \n \n Mardi 5 août 2025 \n De 9h à 12h \n \nA France travail Laon : Avenue du Maréchal-Foch 02000 Laon  \nVenez découvrir la formation Assistant(e) de Vie aux Familles\, les débouchés professionnels\, le contenu du parcours et poser toutes vos questions à notre équipe ! \n \n Une étape essentielle pour rejoindre notre prochaine session de POE.  Inscriptions : recrutement@cphd-formations.com \n 03 23 89 29 29 								\n				\n				\n						\n					\n			\n							\n		\n					\n		\n				\n						\n					\n			\n							\n		\n					\n		\n				\n				\n							\n			\n						\n		\n						\n				\n				\n				\n									Formulaire d’inscription								\n				\n				\n				\n							\n			\n			\n					\n					\n			Nom							\n						\n				\n				\n				\n					\n			Prénom							\n						\n				\n				\n				\n					\n			Email							\n						\n				\n				\n				\n					\n			Date de l'événement							\n						\n				\n				\n				\n					\n			Nom de l'événement							\n						\n				\n				\n				\n					\n			Message						\n				\n				\n				\n					\n							\n									\n						Envoyer votre demande d'inscription\n		\n							\n				\n\n								\n				\n				\n						\n					\n			\n						\n				\n					\n	\n		\n\n				Réunion d’Information Collective POEI LAON/ANIZY	\n\n\n		\n	\n		Réunion d'Information Collective POE Laon
URL:https://www.cphd-formations.com/evenement/reunion-dinformation-collective-poe-laon/
END:VEVENT
END:VCALENDAR