BEGIN:VCALENDAR
VERSION:2.0
PRODID:-//CPHD Formations - ECPv6.15.20//NONSGML v1.0//EN
CALSCALE:GREGORIAN
METHOD:PUBLISH
X-WR-CALNAME:CPHD Formations
X-ORIGINAL-URL:https://www.cphd-formations.com
X-WR-CALDESC:Évènements pour CPHD Formations
REFRESH-INTERVAL;VALUE=DURATION:PT1H
X-Robots-Tag:noindex
X-PUBLISHED-TTL:PT1H
BEGIN:VTIMEZONE
TZID:Europe/Paris
BEGIN:DAYLIGHT
TZOFFSETFROM:+0100
TZOFFSETTO:+0200
TZNAME:CEST
DTSTART:20240331T010000
END:DAYLIGHT
BEGIN:STANDARD
TZOFFSETFROM:+0200
TZOFFSETTO:+0100
TZNAME:CET
DTSTART:20241027T010000
END:STANDARD
BEGIN:DAYLIGHT
TZOFFSETFROM:+0100
TZOFFSETTO:+0200
TZNAME:CEST
DTSTART:20250330T010000
END:DAYLIGHT
BEGIN:STANDARD
TZOFFSETFROM:+0200
TZOFFSETTO:+0100
TZNAME:CET
DTSTART:20251026T010000
END:STANDARD
BEGIN:DAYLIGHT
TZOFFSETFROM:+0100
TZOFFSETTO:+0200
TZNAME:CEST
DTSTART:20260329T010000
END:DAYLIGHT
BEGIN:STANDARD
TZOFFSETFROM:+0200
TZOFFSETTO:+0100
TZNAME:CET
DTSTART:20261025T010000
END:STANDARD
END:VTIMEZONE
BEGIN:VEVENT
DTSTART;TZID=Europe/Paris:20250828T100000
DTEND;TZID=Europe/Paris:20250828T123000
DTSTAMP:20260419T180525
CREATED:20250805T151957Z
LAST-MODIFIED:20250805T152947Z
UID:2133-1756375200-1756384200@www.cphd-formations.com
SUMMARY:Réunion d'Information Collective Jeunes - 29 ans
DESCRIPTION:« Tous les Évènements\n 				\n				\n				\n				\n					Cet évènement est passé. \n				\n				\n				\n				\n					\n	Réunion d’Information Collective Jeunes – 29 ans				\n				\n				\n				\n					\n		\n			28 août\n\n	\n\n	  -  \n\n\n10h00\n\n		\n\n\n\n	\n	  à  \n\n12h30\n\n\n\n	\n				\n				\n				\n				\n					\n	\n		\n\n	\n	Ajouter au calendrier	\n		\n	\n\n		\n			\n									\n	Google Agenda\n\n									\n	iCalendar\n\n									\n	Outlook 365\n\n									\n	Outlook Live\n\n							\n		\n\n		\n	\n\n				\n				\n				\n				\n																														\n				\n				\n				\n					\n	\n				\n				\n				\n						\n					\n			\n						\n				\n					\n				\n				\n	\n			\n		CFA CPHD LAON 2			\n	\n	\n	\n\n112 rue de la huree\n	\n		\n		laon\,\n\n	Aisne\n\n	02000\n\n	France\n\n\n\n\n	+ Google Map \n\n\n	\n					\n			0323892933			\n	 \n\n\n	\n	 \n\n\n\n	\n\n\n\n		\n	\n				\n				\n					\n		\n					\n		\n				\n						\n					\n			\n						\n				\n									📢 Réunion d’Information Collective : Ouvrez les portes du médico-social\, de la petite enfance et de la santé ! 🏥👶 CPHD-Formations organise une Réunion d’Information Collective pour accompagner les jeunes de 16 à 29 ans et leur permettre de découvrir des opportunités professionnelles dans le secteur du médico-social\, de la petite enfance et de la santé. 📅 Date : Jeudi 28 août 2025 📍 Lieu CFA de Laon : 112 Rue de la Huree \, 02000 Laon  🕘 Horaires : 10h – 12h30 Tu as moins de 29 ans et tu cherches une direction ?  👉 Viens découvrir notre accompagnement dédié aux jeunes de moins de 29 ans\, sur 3 mois\, du 17 septembre au 19 décembre 2025 ! 🎓 Au programme : 🔎 3 stages découvertes dans les métiers suivants : • Auxiliaire de vie • Agent de propreté et d’hygiène • Assistante maternelle / Auxiliaire de puériculture 🧠 Un accompagnement autour du développement des compétences 🎯 De la pratique\, de la réflexion\, de l’expérience… et surtout un vrai boost pour ton projet professionnel !  Ne laissez pas passer cette opportunité ! 🌟  📩 Infos & inscriptions : 📧 Mail : recrutement@cphd-formations.com 📞 Téléphone : 03 23 89 29 29 📌 Cette action est cofinancée par la Région Hauts-de-France et l’Union européenne. 								\n				\n					\n		\n					\n		\n				\n				\n							\n			\n						\n		\n						\n				\n				\n				\n									Formulaire d’inscription								\n				\n				\n				\n							\n			\n			\n					\n					\n			Nom							\n						\n				\n				\n				\n					\n			Prénom							\n						\n				\n				\n				\n					\n			Email							\n						\n				\n				\n				\n					\n			Date de l'événement							\n						\n				\n				\n				\n					\n			Nom de l'événement							\n						\n				\n				\n				\n					\n			Message						\n				\n				\n				\n					\n							\n									\n						Envoyer votre demande d'inscription\n		\n							\n				\n\n								\n				\n				\n						\n					\n			\n						\n				\n					\n	\n		\n\n				Réunion D'information Collective POE Laon	\n\n\n		\n	\n		Réunion d'Information Collective POE Château-Thierry
URL:https://www.cphd-formations.com/evenement/reunion-dinformation-collective-jeunes-29-ans/
LOCATION:CFA CPHD LAON 2\, 112 rue de la huree\, laon\, Aisne\, 02000\, France
CATEGORIES:Réunion d'information collective
ATTACH;FMTTYPE=image/png:https://www.cphd-formations.com/wp-content/uploads/2025/08/Flyer-neets-04-05-scaled.png
ORGANIZER;CN="CPHD Formations":MAILTO:contact@cphd-formations.com
END:VEVENT
END:VCALENDAR