BEGIN:VCALENDAR
VERSION:2.0
PRODID:-//CPHD Formations - ECPv6.15.20//NONSGML v1.0//EN
CALSCALE:GREGORIAN
METHOD:PUBLISH
X-WR-CALNAME:CPHD Formations
X-ORIGINAL-URL:https://www.cphd-formations.com
X-WR-CALDESC:Évènements pour CPHD Formations
REFRESH-INTERVAL;VALUE=DURATION:PT1H
X-Robots-Tag:noindex
X-PUBLISHED-TTL:PT1H
BEGIN:VTIMEZONE
TZID:Europe/Paris
BEGIN:DAYLIGHT
TZOFFSETFROM:+0100
TZOFFSETTO:+0200
TZNAME:CEST
DTSTART:20240331T010000
END:DAYLIGHT
BEGIN:STANDARD
TZOFFSETFROM:+0200
TZOFFSETTO:+0100
TZNAME:CET
DTSTART:20241027T010000
END:STANDARD
BEGIN:DAYLIGHT
TZOFFSETFROM:+0100
TZOFFSETTO:+0200
TZNAME:CEST
DTSTART:20250330T010000
END:DAYLIGHT
BEGIN:STANDARD
TZOFFSETFROM:+0200
TZOFFSETTO:+0100
TZNAME:CET
DTSTART:20251026T010000
END:STANDARD
BEGIN:DAYLIGHT
TZOFFSETFROM:+0100
TZOFFSETTO:+0200
TZNAME:CEST
DTSTART:20260329T010000
END:DAYLIGHT
BEGIN:STANDARD
TZOFFSETFROM:+0200
TZOFFSETTO:+0100
TZNAME:CET
DTSTART:20261025T010000
END:STANDARD
END:VTIMEZONE
BEGIN:VEVENT
DTSTART;TZID=Europe/Paris:20250702T140000
DTEND;TZID=Europe/Paris:20250702T170000
DTSTAMP:20260419T174859
CREATED:20250619T134906Z
LAST-MODIFIED:20250701T135354Z
UID:1396-1751464800-1751475600@www.cphd-formations.com
SUMMARY:Réunion d’Information Collective NEETS
DESCRIPTION:« Tous les Évènements\n 				\n				\n				\n				\n					Cet évènement est passé. \n				\n				\n				\n				\n					\n	Réunion d’Information Collective NEETS				\n				\n				\n				\n					\n		\n			2 juillet\n\n	\n\n	  -  \n\n\n14h00\n\n		\n\n\n\n	\n	  à  \n\n17h00\n\n\n\n	\n				\n				\n				\n				\n					\n	\n		\n\n	\n	Ajouter au calendrier	\n		\n	\n\n		\n			\n									\n	Google Agenda\n\n									\n	iCalendar\n\n									\n	Outlook 365\n\n									\n	Outlook Live\n\n							\n		\n\n		\n	\n\n				\n				\n				\n				\n									📢 Réunion d’Information Collective – Jeunes 16-29 ans Vous avez entre 16 et 29 ans ?Vous êtes sans emploi\, sans formation ou en questionnement sur votre avenir ?👉 Venez découvrir notre accompagnements dans les secteurs médico-social\, santé et petite enfance. 📅 Mercredi 2 juillet 2025🕑 De 14h00 à 17h00📍 Mission Locale de Laon4a Avenue Carnot – 02000 Laon ✅ Lors de cette réunion\, vous pourrez :• Poser toutes vos questions• Rencontrer notre équipe• Découvrir les parcours qui peuvent vous aider à rebondir 🎯 Cette rencontre est ouverte à tous les jeunes motivés à construire leur avenir.🤝 Cette action est cofinancée par la Région Hauts-de-France et l’Union européenne. 								\n				\n				\n				\n																														\n				\n				\n				\n					\n	\n				\n				\n				\n						\n					\n			\n						\n				\n					\n				\n				\n	\n			\n		Mission Locale de Laon			\n	\n	\n	\n\n4a avenue Carnot\n	\n		\n		Laon\,\n\n\n	02000\n\n\n\n\n\n	+ Google Map \n\n\n	\n					\n						\n	 \n\n\n	\n	 \n\n\n\n	\n\n\n\n		\n	\n				\n				\n					\n		\n					\n		\n				\n						\n					\n			\n							\n		\n					\n		\n				\n				\n							\n			\n						\n		\n						\n				\n				\n				\n									Formulaire d’inscription								\n				\n				\n				\n							\n			\n			\n					\n					\n			Nom							\n						\n				\n				\n				\n					\n			Prénom							\n						\n				\n				\n				\n					\n			Email							\n						\n				\n				\n				\n					\n			Date de l'événement							\n						\n				\n				\n				\n					\n			Nom de l'événement							\n						\n				\n				\n				\n					\n			Message						\n				\n				\n				\n					\n							\n									\n						Envoyer votre demande d'inscription\n		\n							\n				\n\n								\n				\n				\n						\n					\n			\n						\n				\n					\n	\n		\n\n				Salon 15 métiers de l'humain et petite enfance	\n\n\n		\n	\n		Réunion d’Information Collective NEETS LAON
URL:https://www.cphd-formations.com/evenement/reunion-dinformation-collective-2-juillet-2025/
LOCATION:Mission Locale de Laon\, 4a avenue Carnot\, Laon\, 02000
CATEGORIES:Réunion d'information collective
ATTACH;FMTTYPE=image/webp:https://www.cphd-formations.com/wp-content/uploads/2025/06/Image2.webp
ORGANIZER;CN="CPHD Formations":MAILTO:contact@cphd-formations.com
END:VEVENT
END:VCALENDAR